Package: cbaf Version: 1.32.0 Command: /Library/Frameworks/R.framework/Resources/bin/R CMD build --keep-empty-dirs --no-resave-data cbaf StartedAt: 2025-11-03 15:51:08 -0500 (Mon, 03 Nov 2025) EndedAt: 2025-11-03 15:51:37 -0500 (Mon, 03 Nov 2025) EllapsedTime: 28.3 seconds RetCode: 0 Status: OK PackageFile: cbaf_1.32.0.tar.gz PackageFileSize: 786.1 KiB