Package: cbaf Version: 1.32.0 Command: rm -rf cbaf.buildbin-libdir && mkdir cbaf.buildbin-libdir && /Users/biocbuild/BBS/utils/build-universal.sh cbaf_1.32.0.tar.gz /Library/Frameworks/R.framework/Resources/bin/R cbaf.buildbin-libdir StartedAt: 2025-11-02 22:58:36 -0500 (Sun, 02 Nov 2025) EndedAt: 2025-11-02 22:58:55 -0500 (Sun, 02 Nov 2025) EllapsedTime: 19.3 seconds RetCode: 0 Status: OK PackageFile: cbaf_1.32.0.tgz PackageFileSize: 899.4 KiB