Package: categoryCompare Version: 1.52.0 Command: /home/biocbuild/R/R/bin/R CMD INSTALL categoryCompare StartedAt: 2025-10-13 21:04:16 -0000 (Mon, 13 Oct 2025) EndedAt: 2025-10-13 21:04:56 -0000 (Mon, 13 Oct 2025) EllapsedTime: 39.4 seconds RetCode: 0 Status: OK