Package: categoryCompare Version: 1.52.0 Command: /home/biocbuild/R/R/bin/R CMD build --keep-empty-dirs --no-resave-data categoryCompare StartedAt: 2025-10-13 23:22:18 -0000 (Mon, 13 Oct 2025) EndedAt: 2025-10-13 23:26:11 -0000 (Mon, 13 Oct 2025) EllapsedTime: 233.1 seconds RetCode: 0 Status: OK PackageFile: categoryCompare_1.52.0.tar.gz PackageFileSize: 3.185 MiB