Package: casper Version: 2.44.0 Command: /home/biocbuild/bbs-3.22-bioc/R/bin/R CMD INSTALL casper StartedAt: 2025-11-11 15:46:05 -0500 (Tue, 11 Nov 2025) EndedAt: 2025-11-11 15:47:12 -0500 (Tue, 11 Nov 2025) EllapsedTime: 66.8 seconds RetCode: 0 Status: OK