Package: casper Version: 2.44.0 Command: /home/biocbuild/bbs-3.22-bioc/R/bin/R CMD build --keep-empty-dirs --no-resave-data --md5 casper StartedAt: 2025-11-11 16:43:36 -0500 (Tue, 11 Nov 2025) EndedAt: 2025-11-11 16:45:00 -0500 (Tue, 11 Nov 2025) EllapsedTime: 84.1 seconds RetCode: 0 Status: OK PackageFile: casper_2.44.0.tar.gz PackageFileSize: 2.273 MiB