Package: casper Version: 2.44.0 Command: /Library/Frameworks/R.framework/Resources/bin/R CMD INSTALL casper StartedAt: 2025-11-10 15:21:38 -0500 (Mon, 10 Nov 2025) EndedAt: 2025-11-10 15:22:03 -0500 (Mon, 10 Nov 2025) EllapsedTime: 25.0 seconds RetCode: 0 Status: OK