Package: casper Version: 2.44.0 Command: /Library/Frameworks/R.framework/Resources/bin/R CMD build --keep-empty-dirs --no-resave-data casper StartedAt: 2025-11-10 15:50:44 -0500 (Mon, 10 Nov 2025) EndedAt: 2025-11-10 15:51:15 -0500 (Mon, 10 Nov 2025) EllapsedTime: 31.4 seconds RetCode: 1 Status: ERROR PackageFile: None PackageFileSize: NA