Package: cardelino Version: 1.12.0 Command: /home/biocbuild/bbs-3.22-bioc/R/bin/R CMD build --keep-empty-dirs --no-resave-data --md5 cardelino StartedAt: 2025-11-02 16:53:13 -0500 (Sun, 02 Nov 2025) EndedAt: 2025-11-02 16:54:35 -0500 (Sun, 02 Nov 2025) EllapsedTime: 82.1 seconds RetCode: 0 Status: OK PackageFile: cardelino_1.12.0.tar.gz PackageFileSize: 3.65 MiB