Package: cancerclass Version: 1.54.0 Command: /home/biocbuild/bbs-3.22-bioc/R/bin/R CMD INSTALL cancerclass StartedAt: 2025-11-17 17:15:01 -0500 (Mon, 17 Nov 2025) EndedAt: 2025-11-17 17:15:05 -0500 (Mon, 17 Nov 2025) EllapsedTime: 4.5 seconds RetCode: 0 Status: OK