Package: cancerclass Version: 1.54.0 Command: /home/biocbuild/bbs-3.22-bioc/R/bin/R CMD build --keep-empty-dirs --no-resave-data --md5 cancerclass StartedAt: 2025-11-17 19:55:35 -0500 (Mon, 17 Nov 2025) EndedAt: 2025-11-17 19:56:00 -0500 (Mon, 17 Nov 2025) EllapsedTime: 25.0 seconds RetCode: 0 Status: OK PackageFile: cancerclass_1.54.0.tar.gz PackageFileSize: 1.526 MiB