Package: canceR Version: 1.44.0 Command: /home/biocbuild/bbs-3.22-bioc/R/bin/R CMD INSTALL canceR StartedAt: 2025-11-11 16:03:29 -0500 (Tue, 11 Nov 2025) EndedAt: 2025-11-11 16:04:46 -0500 (Tue, 11 Nov 2025) EllapsedTime: 76.9 seconds RetCode: 0 Status: OK