Package: canceR Version: 1.44.0 Command: /Library/Frameworks/R.framework/Resources/bin/R CMD INSTALL canceR StartedAt: 2025-11-03 15:44:33 -0500 (Mon, 03 Nov 2025) EndedAt: 2025-11-03 15:46:51 -0500 (Mon, 03 Nov 2025) EllapsedTime: 137.8 seconds RetCode: 0 Status: OK