Package: canceR Version: 1.44.0 Command: /Library/Frameworks/R.framework/Resources/bin/R CMD build --keep-empty-dirs --no-resave-data canceR StartedAt: 2025-11-03 16:20:35 -0500 (Mon, 03 Nov 2025) EndedAt: 2025-11-03 16:23:00 -0500 (Mon, 03 Nov 2025) EllapsedTime: 145.0 seconds RetCode: 0 Status: OK PackageFile: canceR_1.44.0.tar.gz PackageFileSize: 31.46 MiB