Package: canceR Version: 1.42.0 Command: /home/biocbuild/R/R/bin/R CMD INSTALL canceR StartedAt: 2025-10-09 21:00:50 -0000 (Thu, 09 Oct 2025) EndedAt: 2025-10-09 21:02:37 -0000 (Thu, 09 Oct 2025) EllapsedTime: 107.2 seconds RetCode: 0 Status: OK