Package: calm Version: 1.24.0 Command: /home/biocbuild/bbs-3.22-bioc/R/bin/R CMD INSTALL calm StartedAt: 2025-11-11 15:14:46 -0500 (Tue, 11 Nov 2025) EndedAt: 2025-11-11 15:14:56 -0500 (Tue, 11 Nov 2025) EllapsedTime: 9.9 seconds RetCode: 0 Status: OK