Package: calm Version: 1.24.0 Command: /Library/Frameworks/R.framework/Resources/bin/R CMD INSTALL calm StartedAt: 2025-11-03 15:17:19 -0500 (Mon, 03 Nov 2025) EndedAt: 2025-11-03 15:17:51 -0500 (Mon, 03 Nov 2025) EllapsedTime: 31.3 seconds RetCode: 0 Status: OK