Package: calm Version: 1.22.0 Command: /home/biocbuild/R/R/bin/R CMD build --keep-empty-dirs --no-resave-data calm StartedAt: 2025-10-09 23:19:11 -0000 (Thu, 09 Oct 2025) EndedAt: 2025-10-09 23:22:48 -0000 (Thu, 09 Oct 2025) EllapsedTime: 216.1 seconds RetCode: 0 Status: OK PackageFile: calm_1.22.0.tar.gz PackageFileSize: 390.6 KiB