Package: calm Version: 1.22.0 Command: rm -rf calm.buildbin-libdir && mkdir calm.buildbin-libdir && /Users/biocbuild/BBS/utils/build-universal.sh calm_1.22.0.tar.gz /Library/Frameworks/R.framework/Resources/bin/R calm.buildbin-libdir StartedAt: 2025-04-21 22:28:37 -0400 (Mon, 21 Apr 2025) EndedAt: 2025-04-21 22:28:40 -0400 (Mon, 21 Apr 2025) EllapsedTime: 3.1 seconds RetCode: 0 Status: OK PackageFile: calm_1.22.0.tgz PackageFileSize: 428.6 KiB