Package: cageminer Version: 1.16.0 Command: /home/biocbuild/bbs-3.22-bioc/R/bin/R CMD INSTALL cageminer StartedAt: 2025-11-14 15:49:38 -0500 (Fri, 14 Nov 2025) EndedAt: 2025-11-14 15:50:33 -0500 (Fri, 14 Nov 2025) EllapsedTime: 54.8 seconds RetCode: 0 Status: OK