Package: cageminer Version: 1.16.0 Command: /home/biocbuild/bbs-3.22-bioc/R/bin/R CMD build --keep-empty-dirs --no-resave-data --md5 cageminer StartedAt: 2025-11-13 16:38:01 -0500 (Thu, 13 Nov 2025) EndedAt: 2025-11-13 16:40:26 -0500 (Thu, 13 Nov 2025) EllapsedTime: 144.1 seconds RetCode: 0 Status: OK PackageFile: cageminer_1.16.0.tar.gz PackageFileSize: 1.293 MiB