Package: cageminer Version: 1.16.0 Command: /Library/Frameworks/R.framework/Resources/bin/R CMD INSTALL cageminer StartedAt: 2025-11-10 15:24:20 -0500 (Mon, 10 Nov 2025) EndedAt: 2025-11-10 15:24:42 -0500 (Mon, 10 Nov 2025) EllapsedTime: 22.2 seconds RetCode: 0 Status: OK