Package: cageminer Version: 1.16.0 Command: rm -rf cageminer.buildbin-libdir && mkdir cageminer.buildbin-libdir && /Users/biocbuild/BBS/utils/build-universal.sh cageminer_1.16.0.tar.gz /Library/Frameworks/R.framework/Resources/bin/R cageminer.buildbin-libdir StartedAt: 2025-11-10 23:13:31 -0500 (Mon, 10 Nov 2025) EndedAt: 2025-11-10 23:13:54 -0500 (Mon, 10 Nov 2025) EllapsedTime: 23.4 seconds RetCode: 0 Status: OK PackageFile: cageminer_1.16.0.tgz PackageFileSize: 1.453 MiB