Package: cTRAP Version: 1.28.0 Command: /home/biocbuild/R/R/bin/R CMD INSTALL cTRAP StartedAt: 2025-11-13 21:45:27 -0000 (Thu, 13 Nov 2025) EndedAt: 2025-11-13 21:46:09 -0000 (Thu, 13 Nov 2025) EllapsedTime: 42.1 seconds RetCode: 0 Status: OK