Package: cTRAP Version: 1.28.0 Command: /home/biocbuild/R/R/bin/R CMD build --keep-empty-dirs --no-resave-data cTRAP StartedAt: 2025-11-14 00:59:29 -0000 (Fri, 14 Nov 2025) EndedAt: 2025-11-14 01:00:30 -0000 (Fri, 14 Nov 2025) EllapsedTime: 61.0 seconds RetCode: 1 Status: ERROR PackageFile: None PackageFileSize: NA