Package: cTRAP Version: 1.28.0 Command: /home/biocbuild/bbs-3.22-bioc/R/bin/R CMD check --install=check:cTRAP.install-out.txt --library=/home/biocbuild/bbs-3.22-bioc/R/site-library --timings cTRAP_1.28.0.tar.gz StartedAt: 2025-11-11 22:41:27 -0500 (Tue, 11 Nov 2025) EndedAt: 2025-11-11 22:56:18 -0500 (Tue, 11 Nov 2025) EllapsedTime: 890.7 seconds RetCode: 0 Status: OK CheckDir: cTRAP.Rcheck Warnings: 0