Package: cTRAP Version: 1.28.0 Command: /home/biocbuild/bbs-3.22-bioc/R/bin/R CMD build --keep-empty-dirs --no-resave-data --md5 cTRAP StartedAt: 2025-11-11 17:10:39 -0500 (Tue, 11 Nov 2025) EndedAt: 2025-11-11 17:13:36 -0500 (Tue, 11 Nov 2025) EllapsedTime: 176.1 seconds RetCode: 0 Status: OK PackageFile: cTRAP_1.28.0.tar.gz PackageFileSize: 5.152 MiB