Package: cTRAP Version: 1.26.0 Command: /home/biocbuild/bbs-3.21-bioc/R/bin/R CMD INSTALL cTRAP StartedAt: 2025-10-15 15:36:57 -0400 (Wed, 15 Oct 2025) EndedAt: 2025-10-15 15:37:27 -0400 (Wed, 15 Oct 2025) EllapsedTime: 29.8 seconds RetCode: 0 Status: OK