Package: cTRAP Version: 1.26.0 Command: /home/biocbuild/R/R/bin/R CMD INSTALL cTRAP StartedAt: 2025-09-25 20:52:53 -0000 (Thu, 25 Sep 2025) EndedAt: 2025-09-25 20:53:37 -0000 (Thu, 25 Sep 2025) EllapsedTime: 43.7 seconds RetCode: 0 Status: OK