Package: cTRAP Version: 1.26.0 Command: /Library/Frameworks/R.framework/Resources/bin/R CMD build --keep-empty-dirs --no-resave-data cTRAP StartedAt: 2025-10-13 22:16:30 -0400 (Mon, 13 Oct 2025) EndedAt: 2025-10-13 22:18:51 -0400 (Mon, 13 Oct 2025) EllapsedTime: 140.1 seconds RetCode: 0 Status: OK PackageFile: cTRAP_1.26.0.tar.gz PackageFileSize: 5.306 MiB