Package: cTRAP Version: 1.26.0 Command: rm -rf cTRAP.buildbin-libdir && mkdir cTRAP.buildbin-libdir && /Users/biocbuild/BBS/utils/build-universal.sh cTRAP_1.26.0.tar.gz /Library/Frameworks/R.framework/Resources/bin/R cTRAP.buildbin-libdir StartedAt: 2025-10-15 18:05:07 -0400 (Wed, 15 Oct 2025) EndedAt: 2025-10-15 18:05:48 -0400 (Wed, 15 Oct 2025) EllapsedTime: 40.6 seconds RetCode: 0 Status: OK PackageFile: cTRAP_1.26.0.tgz PackageFileSize: 6.399 MiB