Package: cBioPortalData Version: 2.22.1 Command: /home/biocbuild/R/R/bin/R CMD INSTALL cBioPortalData StartedAt: 2025-11-13 21:52:13 -0000 (Thu, 13 Nov 2025) EndedAt: 2025-11-13 21:53:07 -0000 (Thu, 13 Nov 2025) EllapsedTime: 53.8 seconds RetCode: 0 Status: OK