Package: cBioPortalData Version: 2.22.1 Command: /home/biocbuild/R/R/bin/R CMD build --keep-empty-dirs --no-resave-data cBioPortalData StartedAt: 2025-11-14 00:19:44 -0000 (Fri, 14 Nov 2025) EndedAt: 2025-11-14 00:23:21 -0000 (Fri, 14 Nov 2025) EllapsedTime: 217.1 seconds RetCode: 0 Status: OK PackageFile: cBioPortalData_2.22.1.tar.gz PackageFileSize: 1.056 MiB