Package: cBioPortalData Version: 2.22.1 Command: /home/biocbuild/bbs-3.22-bioc/R/bin/R CMD INSTALL cBioPortalData StartedAt: 2025-11-11 15:49:17 -0500 (Tue, 11 Nov 2025) EndedAt: 2025-11-11 15:49:58 -0500 (Tue, 11 Nov 2025) EllapsedTime: 41.0 seconds RetCode: 0 Status: OK