Package: cBioPortalData Version: 2.22.1 Command: /home/biocbuild/bbs-3.22-bioc/R/bin/R CMD check --install=check:cBioPortalData.install-out.txt --library=/home/biocbuild/bbs-3.22-bioc/R/site-library --timings cBioPortalData_2.22.1.tar.gz StartedAt: 2025-11-11 21:56:09 -0500 (Tue, 11 Nov 2025) EndedAt: 2025-11-11 22:03:54 -0500 (Tue, 11 Nov 2025) EllapsedTime: 465.5 seconds RetCode: 0 Status: OK CheckDir: cBioPortalData.Rcheck Warnings: 0