Package: cBioPortalData Version: 2.22.1 Command: /home/biocbuild/bbs-3.22-bioc/R/bin/R CMD build --keep-empty-dirs --no-resave-data --md5 cBioPortalData StartedAt: 2025-11-11 16:44:12 -0500 (Tue, 11 Nov 2025) EndedAt: 2025-11-11 16:46:28 -0500 (Tue, 11 Nov 2025) EllapsedTime: 136.1 seconds RetCode: 0 Status: OK PackageFile: cBioPortalData_2.22.1.tar.gz PackageFileSize: 1.011 MiB