Package: cBioPortalData Version: 2.20.0 Command: /Library/Frameworks/R.framework/Resources/bin/R CMD build --keep-empty-dirs --no-resave-data cBioPortalData StartedAt: 2025-04-21 16:12:21 -0400 (Mon, 21 Apr 2025) EndedAt: 2025-04-21 16:14:53 -0400 (Mon, 21 Apr 2025) EllapsedTime: 152.0 seconds RetCode: 0 Status: OK PackageFile: cBioPortalData_2.20.0.tar.gz PackageFileSize: 1.002 MiB