Package: cBioPortalData Version: 2.20.0 Command: rm -rf cBioPortalData.buildbin-libdir && mkdir cBioPortalData.buildbin-libdir && /Users/biocbuild/BBS/utils/build-universal.sh cBioPortalData_2.20.0.tar.gz /Library/Frameworks/R.framework/Resources/bin/R cBioPortalData.buildbin-libdir StartedAt: 2025-04-22 00:36:54 -0400 (Tue, 22 Apr 2025) EndedAt: 2025-04-22 00:37:54 -0400 (Tue, 22 Apr 2025) EllapsedTime: 59.7 seconds RetCode: 0 Status: OK PackageFile: cBioPortalData_2.20.0.tgz PackageFileSize: 1.092 MiB