Package: cBioPortalData Version: 2.20.0 Command: /Library/Frameworks/R.framework/Resources/bin/R CMD build --keep-empty-dirs --no-resave-data cBioPortalData StartedAt: 2025-10-13 20:37:06 -0400 (Mon, 13 Oct 2025) EndedAt: 2025-10-13 20:40:16 -0400 (Mon, 13 Oct 2025) EllapsedTime: 190.4 seconds RetCode: 0 Status: OK PackageFile: cBioPortalData_2.20.0.tar.gz PackageFileSize: 1.002 MiB