Package: cBioPortalData Version: 2.20.0 Command: rm -rf cBioPortalData.buildbin-libdir && mkdir cBioPortalData.buildbin-libdir && /Users/biocbuild/BBS/utils/build-universal.sh cBioPortalData_2.20.0.tar.gz /Library/Frameworks/R.framework/Resources/bin/R cBioPortalData.buildbin-libdir StartedAt: 2025-10-15 17:43:57 -0400 (Wed, 15 Oct 2025) EndedAt: 2025-10-15 17:44:51 -0400 (Wed, 15 Oct 2025) EllapsedTime: 53.6 seconds RetCode: 0 Status: OK PackageFile: cBioPortalData_2.20.0.tgz PackageFileSize: 1.092 MiB