Package: bumphunter Version: 1.52.0 Command: /home/biocbuild/bbs-3.22-bioc/R/bin/R CMD INSTALL bumphunter StartedAt: 2025-11-13 15:41:45 -0500 (Thu, 13 Nov 2025) EndedAt: 2025-11-13 15:42:22 -0500 (Thu, 13 Nov 2025) EllapsedTime: 36.4 seconds RetCode: 0 Status: OK