Package: bugsigdbr Version: 1.16.0 Command: /home/biocbuild/bbs-3.22-bioc/R/bin/R CMD check --install=check:bugsigdbr.install-out.txt --library=/home/biocbuild/bbs-3.22-bioc/R/site-library --timings bugsigdbr_1.16.0.tar.gz StartedAt: 2025-11-18 01:15:28 -0500 (Tue, 18 Nov 2025) EndedAt: 2025-11-18 01:29:44 -0500 (Tue, 18 Nov 2025) EllapsedTime: 856.6 seconds RetCode: 1 Status: ERROR CheckDir: bugsigdbr.Rcheck Warnings: NA