Package: bugsigdbr Version: 1.16.0 Command: /home/biocbuild/bbs-3.22-bioc/R/bin/R CMD build --keep-empty-dirs --no-resave-data --md5 bugsigdbr StartedAt: 2025-11-11 16:40:13 -0500 (Tue, 11 Nov 2025) EndedAt: 2025-11-11 16:40:55 -0500 (Tue, 11 Nov 2025) EllapsedTime: 42.0 seconds RetCode: 0 Status: OK PackageFile: bugsigdbr_1.16.0.tar.gz PackageFileSize: 329.7 KiB