Package: bugsigdbr Version: 1.16.0 Command: /Library/Frameworks/R.framework/Resources/bin/R CMD INSTALL bugsigdbr StartedAt: 2025-11-03 15:16:36 -0500 (Mon, 03 Nov 2025) EndedAt: 2025-11-03 15:17:14 -0500 (Mon, 03 Nov 2025) EllapsedTime: 37.5 seconds RetCode: 0 Status: OK