Package: bugsigdbr Version: 1.16.0 Maintainer: Ludwig Geistlinger MaintainerEmail: ludwig.geistlinger at gmail.com git_url: https://git.bioconductor.org/packages/bugsigdbr git_branch: RELEASE_3_22 git_last_commit: fb143e0 git_last_commit_date: 2025-10-29 11:11:42 -0500 (Wed, 29 Oct 2025)