Package: bsseq Version: 1.46.0 Command: /Library/Frameworks/R.framework/Resources/bin/R CMD INSTALL bsseq StartedAt: 2025-11-03 15:35:23 -0500 (Mon, 03 Nov 2025) EndedAt: 2025-11-03 15:36:50 -0500 (Mon, 03 Nov 2025) EllapsedTime: 87.2 seconds RetCode: 0 Status: OK