Package: bsseq Version: 1.46.0 Command: /Library/Frameworks/R.framework/Resources/bin/R CMD build --keep-empty-dirs --no-resave-data bsseq StartedAt: 2025-11-03 16:18:45 -0500 (Mon, 03 Nov 2025) EndedAt: 2025-11-03 16:21:22 -0500 (Mon, 03 Nov 2025) EllapsedTime: 156.3 seconds RetCode: 0 Status: OK PackageFile: bsseq_1.46.0.tar.gz PackageFileSize: 2.95 MiB