Package: bsseq Version: 1.44.1 Command: /home/biocbuild/R/R/bin/R CMD INSTALL bsseq StartedAt: 2025-10-09 20:51:17 -0000 (Thu, 09 Oct 2025) EndedAt: 2025-10-09 20:52:51 -0000 (Thu, 09 Oct 2025) EllapsedTime: 93.1 seconds RetCode: 0 Status: OK