Package: bsseq Version: 1.44.1 Command: /home/biocbuild/R/R/bin/R CMD build --keep-empty-dirs --no-resave-data bsseq StartedAt: 2025-10-09 23:16:11 -0000 (Thu, 09 Oct 2025) EndedAt: 2025-10-09 23:19:35 -0000 (Thu, 09 Oct 2025) EllapsedTime: 204.1 seconds RetCode: 0 Status: OK PackageFile: bsseq_1.44.1.tar.gz PackageFileSize: 2.999 MiB