Package: broadSeq Version: 1.4.0 Command: /home/biocbuild/bbs-3.22-bioc/R/bin/R CMD INSTALL broadSeq StartedAt: 2025-11-11 15:52:48 -0500 (Tue, 11 Nov 2025) EndedAt: 2025-11-11 15:53:26 -0500 (Tue, 11 Nov 2025) EllapsedTime: 38.7 seconds RetCode: 0 Status: OK